BEGIN:VCALENDAR
VERSION:2.0
PRODID:-//wp-events-plugin.com//7.2.3.1//EN
TZID:Europe/Berlin
X-WR-TIMEZONE:Europe/Berlin
BEGIN:VEVENT
UID:372@guter-wein-hamburg.de
DTSTART;TZID=Europe/Berlin:20250620T193000
DTEND;TZID=Europe/Berlin:20250620T223000
DTSTAMP:20250405T141417Z
URL:https://guter-wein-hamburg.de/events/vive-la-france-die-loire-weinprob
 e/
SUMMARY:Vive la France\, die Loire Weinprobe
DESCRIPTION:&nbsp\;\nLiebe Frankreich Fans\,\nam Freitag\, den 20. Juni um 
 19:30\nfindet eine Weinreise durch die Loire im Rahmen\nunserer Aktionswoc
 hen "Loire geh Deinen eigenen Fluss " \nvom 02. bis 20. Juni 2025 statt.\n
 Wir degustieren 10-12 Weine (Weiß-Rosé-und Rotweine) aus dieser Region.\
 nDer Preis beträgt nur 79 Euro (Sonderpreis) pro Person\,\nincl. kleinen 
 Köstlichkeiten.\nBei einem Einkauf ab 100 Euro werden 15 Euro als Gutschr
 ift mit verrechnet.\nIch freue mich auf ihre Anmeldungen.\nIhr Torsten Tes
 ch
ATTACH;FMTTYPE=image/jpeg:https://guter-wein-hamburg.de/wp-content/uploads
 /2020/09/Joly.jpg
CATEGORIES:Weinprobe klassisch
END:VEVENT
BEGIN:VTIMEZONE
TZID:Europe/Berlin
X-LIC-LOCATION:Europe/Berlin
BEGIN:DAYLIGHT
DTSTART:20250330T030000
TZOFFSETFROM:+0100
TZOFFSETTO:+0200
TZNAME:CEST
END:DAYLIGHT
END:VTIMEZONE
END:VCALENDAR