BEGIN:VCALENDAR
VERSION:2.0
PRODID:-//wp-events-plugin.com//7.2.3.1//EN
TZID:Europe/Berlin
X-WR-TIMEZONE:Europe/Berlin
BEGIN:VEVENT
UID:382@guter-wein-hamburg.de
DTSTART;TZID=Europe/Berlin:20260116T193000
DTEND;TZID=Europe/Berlin:20260116T223000
DTSTAMP:20251119T101827Z
URL:https://guter-wein-hamburg.de/events/grosser-rhone-weinabend/
SUMMARY:Großer Rhône Weinabend
DESCRIPTION:Liebe Weinfreunde\,\nam Freitag\, den 16. Januar 2026 um 19:30 
 Uhr erwartet Euch eine ganz besondere Rarität:\nExklusive Weinprobe – R
 hône-Schätze 2013\nWir präsentieren eine Sammlerbox mit den großen wei
 ßen Rhône-Weinen des Jahrgangs 2013 – alle aus biodynamischem Anbau:\n
 • L’Ermite blanc 2013 – AOP Ermitage\n• Le Méal blanc 2013 – AO
 P Ermitage\n• De l’Orée blanc 2013 – AOP Ermitage\n• Chante Aloue
 tte blanc 2013 – AOP Hermitage\n• Les Granits blanc 2013 – Saint-Jos
 eph\n• Coteau de Chery blanc 2013 – Condrieu\nDer Jahrgang 2013 gilt a
 ls Weltklasse für die Weißweine der Rhône: Spannung\, Frische und perfe
 kte Balance statt opulenter Fülle.\nJeb Dunnuck vergab damals (noch für 
 Parker) gleich dreimal 100 Punkte für die Giganten vom Hermitage und 97 P
 unkte für den Condrieu\,\neine würdige Anerkennung dieses besonderen Jah
 rgangs.\nNur 90 Kisten wurden weltweit freigegeben – eine Gelegenheit\, 
 die es so nicht wieder geben wird.\nGemeinsam verkosten wir diese spektaku
 lären Weine über zehn Jahre nach der Ernte – ein Fest für Sammler\, L
 iebhaber und Genießer!\nPlus ergänzende Weine aus dem Hause Chapoutier:\
 n• Aperitif: 2016 La Muse de RW Brut Nature\n• Châteauneuf-du-Pape Ro
 uge Barbe Rac: 2012 &amp\; 2004\n• Domaine Bila-Haut V.I.T. Le Roussillo
 n: 2012\, 2010\, 2009 &amp\; 2008\nPreis pro Person: € 299 (inkl. Essen)
 \nPlätze: Nur 12 verfügbar\nIch freue mich auf Eure Anmeldungen und eine
 n unvergesslichen Abend!\nViele Grüße\nTorsten
ATTACH;FMTTYPE=image/jpeg:https://guter-wein-hamburg.de/wp-content/uploads
 /2020/05/DSC_0180-scaled-e1591176802739.jpg
CATEGORIES:Raritäten-Proben
END:VEVENT
BEGIN:VTIMEZONE
TZID:Europe/Berlin
X-LIC-LOCATION:Europe/Berlin
BEGIN:STANDARD
DTSTART:20251026T020000
TZOFFSETFROM:+0200
TZOFFSETTO:+0100
TZNAME:CET
END:STANDARD
END:VTIMEZONE
END:VCALENDAR