BEGIN:VCALENDAR
VERSION:2.0
PRODID:-//wp-events-plugin.com//7.2.3.1//EN
TZID:Europe/Berlin
X-WR-TIMEZONE:Europe/Berlin
BEGIN:VEVENT
UID:373@guter-wein-hamburg.de
DTSTART;TZID=Europe/Berlin:20250704T193000
DTEND;TZID=Europe/Berlin:20250704T223000
DTSTAMP:20250422T113155Z
URL:https://guter-wein-hamburg.de/events/grosse-rose-probe/
SUMMARY:Große Rosé Probe
DESCRIPTION:Liebe Weinfreunde\,\ndie Rosé Zeit rückt immer näher\, die T
 emperaturen steigen!\nFreuen sie sich auf einen Weinabend mit den besten R
 osés Europas.\nUnser Sommerhit - Freitag\, den 04. Juli um 19.30 Uhr!\nVe
 rführerische Fruchtaromen\, animierende\, klare Frische:\nDie große Ros
 é-Probe.\nHeute finden wir in jedem Weinbauland der Welt exzellente Rosé
 weine in unterschiedlicher Stilistik aus verschiedensten Rotweintrauben ge
 keltert.\nWir degustieren Roséweine aus Deutschland\, Frankreich\, Italie
 n und Spanien...\nWelche Farbe der Wein erhält\, ist davon abhängig\, wi
 e lange der Saft der roten Trauben mit den Beerenschalen in Kontakt bleibt
 .\nAlle Farbstoffe befinden sich in der Schale der Traube und lösen sich 
 nur langsam heraus.\nBei einer längeren Maischestandzeit\, die bis zu 48 
 Stunden dauern kann\, können tiefdunkle Roséweine entstehen.\nWird der M
 ost sofort abgepresst\, haben die Weine eine sehr helle Farbe\, wie der\n
 „Blush“ in Kalifornien oder der „Vin Gris“ in Frankreich.\nWir deg
 ustuieren Rosé vom gefälligen Sommerwein bis hin zum komplexen Speisenbe
 gleiter und genießen dazu eine Vielfalt an frischen „Sommer-Tapas“.\n
 Preis pro Person 99 € incl. 12 Roséweine\, (bei 12 Teilnehmer)\nWasser 
 und Sommer-Tapas.\nIch freue mich auf Sie.\n\nViele Grüße
ATTACH;FMTTYPE=image/jpeg:https://guter-wein-hamburg.de/wp-content/uploads
 /2020/05/rose_1-e1589796300720.jpg
CATEGORIES:Weinprobe klassisch
END:VEVENT
BEGIN:VTIMEZONE
TZID:Europe/Berlin
X-LIC-LOCATION:Europe/Berlin
BEGIN:DAYLIGHT
DTSTART:20250330T030000
TZOFFSETFROM:+0100
TZOFFSETTO:+0200
TZNAME:CEST
END:DAYLIGHT
END:VTIMEZONE
END:VCALENDAR