BEGIN:VCALENDAR
VERSION:2.0
PRODID:-//wp-events-plugin.com//7.2.3.1//EN
TZID:Europe/Berlin
X-WR-TIMEZONE:Europe/Berlin
BEGIN:VEVENT
UID:374@guter-wein-hamburg.de
DTSTART;TZID=Europe/Berlin:20250926T193000
DTEND;TZID=Europe/Berlin:20250926T223000
DTSTAMP:20250510T082537Z
URL:https://guter-wein-hamburg.de/events/grosse-champagner-probe/
SUMMARY:Große Champagner Probe!
DESCRIPTION:Große Pommery Champagner Probe\nLiebe Weinfreunde\,\nich freue
  mich auf einen ganz besonderen Champagner - Abend.\nDas Event findet am F
 reitag\, den 26. September 2025 um 19:30 statt\nund bietet eine spannende 
 Degustation verschiedener Schaumweine.\nApanage 1874\nApanage Blanc de Bla
 nc\nApanage Blanc de Noir\nApanage Rosé\nDer Abend klingt wirklich pricke
 lnd und exklusiv\,\nbesonders mit der Magnum Brut Apanage\,\ndie mit einem
  Champagner Säbel geöffnet wird.\nNach dem Essen folgen noch weitere Hig
 hlights:\n2009 Grand Cru Millesime\n2006 Louise Nature\n2005 Louise Nature
  Parcelle\n2004 Louise Rosé Parcelle\n2012 Millesime aus der Magnum\nEin 
 prickelnder Abend steht uns bevor!\nPreis beträgt 199 Euro pro Person\, i
 nclusive Aperitif\, Champagner und Essen.\nDa es nur maximal 12 Plätze gi
 bt\, gilt:\nFirst come - First serve!\nIch freue mich auf Eure Anmeldungen
 .\nAuf bald und viele Grüße\nTorsten\n&nbsp\;
ATTACH;FMTTYPE=image/jpeg:https://guter-wein-hamburg.de/wp-content/uploads
 /2020/06/sprudelnd_2-e1592464761871.jpg
CATEGORIES:Raritäten-Proben
END:VEVENT
BEGIN:VTIMEZONE
TZID:Europe/Berlin
X-LIC-LOCATION:Europe/Berlin
BEGIN:DAYLIGHT
DTSTART:20250330T030000
TZOFFSETFROM:+0100
TZOFFSETTO:+0200
TZNAME:CEST
END:DAYLIGHT
END:VTIMEZONE
END:VCALENDAR