BEGIN:VCALENDAR
VERSION:2.0
PRODID:-//wp-events-plugin.com//7.2.3.1//EN
TZID:Europe/Berlin
X-WR-TIMEZONE:Europe/Berlin
BEGIN:VEVENT
UID:370@guter-wein-hamburg.de
DTSTART;TZID=Europe/Berlin:20250613T193000
DTEND;TZID=Europe/Berlin:20250613T223000
DTSTAMP:20250319T155020Z
URL:https://guter-wein-hamburg.de/events/die-besten-chardonnays-in-deutsch
 lands/
SUMMARY:Die besten Chardonnays Deutschlands
DESCRIPTION:Liebe Weinfreunde\,\nich freue mich\, mit Ihnen eine der\nspann
 endsten Rebsorten der Welt zu verkosten.\nAm Freitag\, den 13. Juni um 19:
 30 degustieren wir\ndie besten Chardonnays Deutschlands.\nFolgende Winzer 
 sind mit dabei:\nRaumland - Rheinhessen\nSaalwächter - Rheinhessen\nWittm
 ann - Rheinhessen\nSchäfer-Fröhlich - Nahe\nAldinger - Württemberg\nMol
 itor - Mosel\nKnipser - Pfalz\nPhilipp Kuhn - Pfalz\nVon Winning - Pfalz\n
 Salwey - Baden\nHeger - Baden\nZiereisen - Baden\nHuber - Baden\nPreis pro
  Person 149 Euro\,\ninkl. Aperitif\, 12 gereifte Chardonnays\n(bei 12 Teil
 nehmer)\nund kulinarische Köstlichkeiten.\nIch freue mich auf Ihre Anmeld
 ungen.\nAuf bald und viele Grüsse\nTorsten Tesch\nChardonnay ist wohl die
  weltweit bekannteste weiße Rebsorte. Fast überall wird sie angebaut. Ni
 cht überall ist sie sehr gut\, aber die besten Winzer wissen\, wie man di
 ese Rebe in flüssigen Nektar verwandelt. Die größten Wein kommen wie so
  oft aus Frankreich\, von hier nahm die Erfolgsgeschichte ihren Lauf. Noch
  immer messen sich die Winzer rund um den Globus an der Mutterregion Burgu
 nd. Sie ist der Maßstab und die Referenz. Aber das Spannende am Chardonna
 y ist\, das die großartigen Winzer sie immer ein wenig anders interpretie
 ren. So steht der Vielfalt nichts im Wege. Probieren sie die besten Chardo
 nnays Deutschlands...
ATTACH;FMTTYPE=image/jpeg:https://guter-wein-hamburg.de/wp-content/uploads
 /2025/03/Chardonnay.jpeg
CATEGORIES:Raritäten-Proben
END:VEVENT
BEGIN:VTIMEZONE
TZID:Europe/Berlin
X-LIC-LOCATION:Europe/Berlin
BEGIN:DAYLIGHT
DTSTART:20250330T030000
TZOFFSETFROM:+0100
TZOFFSETTO:+0200
TZNAME:CEST
END:DAYLIGHT
END:VTIMEZONE
END:VCALENDAR