BEGIN:VCALENDAR
VERSION:2.0
PRODID:-//wp-events-plugin.com//7.2.3.1//EN
TZID:Europe/Berlin
X-WR-TIMEZONE:Europe/Berlin
BEGIN:VEVENT
UID:379@guter-wein-hamburg.de
DTSTART;TZID=Europe/Berlin:20251114T193000
DTEND;TZID=Europe/Berlin:20251114T223000
DTSTAMP:20251114T121007Z
URL:https://guter-wein-hamburg.de/events/cremant-de-loire-probe/
SUMMARY:Crémant de Loire Probe
DESCRIPTION:Liebe Weinfreundinnen und Weinfreunde\,\nfreut Euch auf einen b
 esonderen Abend rund um den\nCrémant de Loire\nam Freitag\, den 14. Novem
 ber 2025\, um 19:30 Uhr.\nAn diesem Abend verkosten wir die Crème de la C
 rème aus der Loire/Frankreich – feinste Crémants\, sorgfältig ausgew
 ählt und perfekt aufeinander abgestimmt.\nAls besonderes Highlight servie
 ren wir zum Essen einen\n2015er Vintage-Crémant aus der Magnumflasche.\nP
 reis pro Person: 129 €\nInklusive Aperitif\, Weine &amp\; Essen.\nWie 
 immer ist die Teilnehmerzahl auf\nmaximal 12 Personen begrenzt –\nfirst 
 come\, first serve!\nIch freue mich auf Eure Anmeldungen.\nAuf bald und he
 rzliche Grüße\nTorsten Tesch
ATTACH;FMTTYPE=image/jpeg:https://guter-wein-hamburg.de/wp-content/uploads
 /2020/06/sprudelnd_2-e1592464761871.jpg
CATEGORIES:Weinprobe klassisch
END:VEVENT
BEGIN:VTIMEZONE
TZID:Europe/Berlin
X-LIC-LOCATION:Europe/Berlin
BEGIN:STANDARD
DTSTART:20251026T020000
TZOFFSETFROM:+0200
TZOFFSETTO:+0100
TZNAME:CET
END:STANDARD
END:VTIMEZONE
END:VCALENDAR