BEGIN:VCALENDAR
VERSION:2.0
PRODID:-//wp-events-plugin.com//7.2.3.1//EN
TZID:Europe/Berlin
X-WR-TIMEZONE:Europe/Berlin
BEGIN:VEVENT
UID:368@guter-wein-hamburg.de
DTSTART;TZID=Europe/Berlin:20260621T150000
DTEND;TZID=Europe/Berlin:20260621T210000
DTSTAMP:20260414T111449Z
URL:https://guter-wein-hamburg.de/events/big-bottle-party-in-der-winebar-d
 al-fabbro/
SUMMARY:Big bottle Party
DESCRIPTION:Liebe Weinfreunde\,\nam Sonntag\, den 21. Juni 2026 von 15 bis 
 21 Uhr\nfindet die Big Bottle Party statt!\nFreut Euch auf einen tollen So
 nntag mit gereiften Weinen aus Großflaschen und kulinarischen Highlights.
 \nWann: Sonntag\, den 21. Juni 2026 - 15-21 Uhr\nWo: Restaurant &amp\; Wei
 nbar Dal Fabbro\, Eppendorfer Weg 176 in 20253 Hamburg\nPreis: 199 € pro
  Person - limitierte Plätze\,\nalso schnell sein!\nAnmeldung: Bei Guter W
 ein - Torsten Tesch\nKommt vorbei\, stoßt mit uns an und genießt einen u
 nvergesslichen Tag!\nHerzliche Grüße\nEuer Leo und Torsten\n
ATTACH;FMTTYPE=image/jpeg:https://guter-wein-hamburg.de/wp-content/uploads
 /2025/05/md_Big-bottle.jpeg
END:VEVENT
BEGIN:VTIMEZONE
TZID:Europe/Berlin
X-LIC-LOCATION:Europe/Berlin
BEGIN:DAYLIGHT
DTSTART:20260329T030000
TZOFFSETFROM:+0100
TZOFFSETTO:+0200
TZNAME:CEST
END:DAYLIGHT
END:VTIMEZONE
END:VCALENDAR