BEGIN:VCALENDAR
VERSION:2.0
PRODID:-//wp-events-plugin.com//7.2.3.1//EN
TZID:Europe/Berlin
X-WR-TIMEZONE:Europe/Berlin
BEGIN:VEVENT
UID:376@guter-wein-hamburg.de
DTSTART;TZID=Europe/Berlin:20251106T193000
DTEND;TZID=Europe/Berlin:20251106T223000
DTSTAMP:20250522T090933Z
URL:https://guter-wein-hamburg.de/events/2-termin-grosse-champagner-probe/
SUMMARY:2. Termin: Große Champagner Probe!
DESCRIPTION:Große Pommery Champagner Probe\nLiebe Weinfreunde\,\nich freue
  mich auf einen ganz besonderen Champagner - Abend.\nDas Event findet am D
 onnerstag\, den 06. November 2025 um 19:30 statt\nund bietet eine spannend
 e Degustation verschiedener Schaumweine.\nApanage 1874\nApanage Blanc de B
 lanc\nApanage Blanc de Noir\nApanage Rosé\nDer Abend klingt wirklich pric
 kelnd und exklusiv\,\nbesonders mit der Magnum Brut Apanage\,\ndie mit ein
 em Champagner Säbel geöffnet wird.\nNach dem Essen folgen noch weitere H
 ighlights:\n2009 Grand Cru Millesime\n2006 Louise Nature\n2005 Louise Natu
 re Parcelle\n2004 Louise Rosé Parcelle\n2012 Millesime aus der Magnum\nEi
 n prickelnder Abend steht uns bevor!\nPreis beträgt 199 Euro pro Person\,
  inclusive Aperitif\, Champagner und Essen.\nDa es nur maximal 12 Plätze 
 gibt\, gilt:\nFirst come - First serve!\nIch freue mich auf Eure Anmeldung
 en.\nAuf bald und viele Grüße\nTorsten\n&nbsp\;
ATTACH;FMTTYPE=image/jpeg:https://guter-wein-hamburg.de/wp-content/uploads
 /2020/06/sprudelnd_2-e1592464761871.jpg
CATEGORIES:Raritäten-Proben
END:VEVENT
BEGIN:VTIMEZONE
TZID:Europe/Berlin
X-LIC-LOCATION:Europe/Berlin
BEGIN:STANDARD
DTSTART:20251026T020000
TZOFFSETFROM:+0200
TZOFFSETTO:+0100
TZNAME:CET
END:STANDARD
END:VTIMEZONE
END:VCALENDAR